BEGIN:VCALENDAR
VERSION:2.0
PRODID:-//wp-events-plugin.com//7.2.3.1//EN
TZID:America/Denver
X-WR-TIMEZONE:America/Denver
BEGIN:VEVENT
UID:1536@krystal93.com
DTSTART;TZID=America/Denver:20250602T160000
DTEND;TZID=America/Denver:20250602T180000
DTSTAMP:20250602T031447Z
URL:https://krystal93.com/events/vue-rooftop-party/
SUMMARY:VUE Rooftop Party
DESCRIPTION:Head over to the VUE in Dillon for another rooftop party ! Join
  Tom Fricke from 4 to 6 today for your chance to win concert tickets to se
 e Earth Wind and Fire\, The Kooks\, Goose and more. Enjoy the view with fo
 od and drink specials. It’s another First Monday of the Month party on t
 he roof at THE VUE Rooftop in Dillon!  
END:VEVENT
BEGIN:VTIMEZONE
TZID:America/Denver
X-LIC-LOCATION:America/Denver
BEGIN:DAYLIGHT
DTSTART:20250309T030000
TZOFFSETFROM:-0700
TZOFFSETTO:-0600
TZNAME:MDT
END:DAYLIGHT
END:VTIMEZONE
END:VCALENDAR