BEGIN:VCALENDAR
VERSION:2.0
PRODID:-//wp-events-plugin.com//7.2.3.1//EN
TZID:America/Denver
X-WR-TIMEZONE:America/Denver
BEGIN:VEVENT
UID:1277@krystal93.com
DTSTART;TZID=America/Denver;VALUE=DATE:20241201
DTEND;TZID=America/Denver;VALUE=DATE:20241209
DTSTAMP:20241201T202349Z
URL:https://krystal93.com/events/wassail-days-in-frisco-2/
SUMMARY:Wassail Days in Frisco
DESCRIPTION:What do you do during Wassail Days in Frisco? Drink wassail of 
 course! From Saturday\, November 30 – Sunday\, December 8\, 2024\, local
  businesses serve up their own secret version of wassail. Guests are encou
 raged to taste at least 12 different types of wassail at 12 different loca
 tions and fill their “12 Sips of Wassail Card.” Once the “12 Sips”
  card is filled out\, guests can redeem it at the Frisco/Copper Informatio
 n Center for a commemorative Frisco Wassail Days mug\, while supplies las
 t.
END:VEVENT
BEGIN:VTIMEZONE
TZID:America/Denver
X-LIC-LOCATION:America/Denver
BEGIN:STANDARD
DTSTART:20241103T010000
TZOFFSETFROM:-0600
TZOFFSETTO:-0700
TZNAME:MST
END:STANDARD
END:VTIMEZONE
END:VCALENDAR