BEGIN:VCALENDAR
VERSION:2.0
PRODID:-//wp-events-plugin.com//7.2.3.1//EN
TZID:America/Denver
X-WR-TIMEZONE:America/Denver
BEGIN:VEVENT
UID:772@krystal93.com
DTSTART;TZID=America/Denver:20231201T000000
DTEND;TZID=America/Denver:20231203T000000
DTSTAMP:20231201T043201Z
URL:https://krystal93.com/events/wassail-days-in-frisco/
SUMMARY:Wassail Days in Frisco
DESCRIPTION:Frisco’s Wassail Days continues Friday\, Saturday and Sunday\
 , December 1-3. You can sample different kinds of hot spiced cider at more
  than 50 of Frisco’s businesses. Go to Wassaildays.com for a full list o
 f events. 
END:VEVENT
BEGIN:VTIMEZONE
TZID:America/Denver
X-LIC-LOCATION:America/Denver
BEGIN:STANDARD
DTSTART:20231105T010000
TZOFFSETFROM:-0600
TZOFFSETTO:-0700
TZNAME:MST
END:STANDARD
END:VTIMEZONE
END:VCALENDAR