BEGIN:VCALENDAR
VERSION:2.0
PRODID:-//wp-events-plugin.com//7.2.3.1//EN
TZID:America/Denver
X-WR-TIMEZONE:America/Denver
BEGIN:VEVENT
UID:1508@krystal93.com
DTSTART;TZID=America/Los_Angeles;VALUE=DATE:20250529
DTEND;TZID=America/Los_Angeles;VALUE=DATE:20250602
DTSTAMP:20250602T022030Z
URL:https://krystal93.com/events/whale-of-a-used-book-sale/
SUMMARY:Whale of a Used Book Sale
DESCRIPTION:The Whale of a Used Book Sale is our semi-annual mega book and 
 media sale\, with proceeds going to support early childhood\, kids\, teen 
 and adult literacy programs at Jefferson County Public Library. We'll have
  over 90\,000 gently used books\, CDs\, DVDs\, audiobooks\, games\, kids b
 ooks &amp\; more! The sale runs May 29 - June 1 at Jeffco Fairgrounds.\nFr
 iday\, May 30 offers two admission types: Early Bird Admission for $10/adu
 lt starts at 8AM.  Regular admission starts at 9AM at $5/Adult. In additi
 on\, teachers\, Jeffco employees and Friends of JCPL members get 1/2 off o
 n most items on Saturday\, May 31.  June 1 is Bag of Books Day and Master
  Gardener Day in partnership with CSU Extension. Bag Day offers shoppers a
  bag of books starting at $10.  Purchase tickets now at: https://www.jeff
 clf.org.
CATEGORIES:Family Event
LOCATION:Jefferson County Fairgrounds\, 15200 W 6th Avenue\, Golden\, CO\, 
 80401\, United States
X-APPLE-STRUCTURED-LOCATION;VALUE=URI;X-ADDRESS=15200 W 6th Avenue\, Golden
 \, CO\, 80401\, United States;X-APPLE-RADIUS=100;X-TITLE=Jefferson County 
 Fairgrounds:geo:0,0
END:VEVENT
BEGIN:VTIMEZONE
TZID:America/Los_Angeles
X-LIC-LOCATION:America/Los_Angeles
BEGIN:DAYLIGHT
DTSTART:20250309T030000
TZOFFSETFROM:-0800
TZOFFSETTO:-0700
TZNAME:PDT
END:DAYLIGHT
END:VTIMEZONE
END:VCALENDAR