BEGIN:VCALENDAR
VERSION:2.0
PRODID:-//wp-events-plugin.com//7.2.3.1//EN
TZID:America/Denver
X-WR-TIMEZONE:America/Denver
BEGIN:VEVENT
UID:1888@krystal93.com
DTSTART;TZID=America/Denver:20260331T190000
DTEND;TZID=America/Denver:20260331T210000
DTSTAMP:20260327T235208Z
URL:https://krystal93.com/events/when-dishwashers-were-kings/
SUMMARY:When Dishwashers were Kings - Vail
DESCRIPTION:Event Name *: When Dishwashers Were Kings at the Colorado Snows
 ports Museum\nEvent Description *: We are showing our short ski bum docume
 ntary at the Colorado Snowsports Museum on 3/31 at 7:00 pm. It was half co
 nceived by and shot by Vail local Matt Inden. The event is free.\nEvent
  Start Date *: 2026-03-31\nEvent End Date *: 2026-03-31\nEvent Time *: 19
 :00\nIf this is a repeating event\, please provide information on the dat
 e(s) it repeats.: no\nEvent Website *: www.whendishwasherswerekings.com\nE
 vent Location *: Colorado Snowsports Museum\nStreet Address *: 231 S. Fron
 tage Rd. East\nCity *: Vail\nState *: CO
END:VEVENT
BEGIN:VTIMEZONE
TZID:America/Denver
X-LIC-LOCATION:America/Denver
BEGIN:DAYLIGHT
DTSTART:20260308T030000
TZOFFSETFROM:-0700
TZOFFSETTO:-0600
TZNAME:MDT
END:DAYLIGHT
END:VTIMEZONE
END:VCALENDAR