BEGIN:VCALENDAR
VERSION:2.0
PRODID:-//wp-events-plugin.com//7.2.3.1//EN
TZID:America/Denver
X-WR-TIMEZONE:America/Denver
BEGIN:VEVENT
UID:1141@krystal93.com
DTSTART;TZID=America/Denver:20240824T090000
DTEND;TZID=America/Denver:20240824T130000
DTSTAMP:20240807T212910Z
URL:https://krystal93.com/events/wilder-gulch-trail-maintenance/
SUMMARY:Wilder Gulch Trail Maintenance
DESCRIPTION:Come out and do some trail maintenance on the Shrine Ridge trai
 l at Vail Pass! Enjoy the views while we work to get this trail back into 
 shape! Trail work will include tread maintenance and some structure buildi
 ng. The work will be moderate. Expect to hike 2-4 miles. We are partnering
  with Women of the Summit\n\nMeeting Location: Shrine Ridge parking area (
 39.546176\, -106.241690)\n\nDriving Directions: From Silverthorne take I-7
 0 West towards Vail Pass. Take exit 190 to Vail Pass\, cross the overpass 
 and continue straight onto Shrine Pass Road. Continue straight for 2.5 mil
 es. The parking area will be on your left at the bathrooms.\n\nSign up on 
 our website under the event calendar: www.fdrd.org
LOCATION:Vail Pass Rest Area\, Shrine Ridge parking area (39.546176\, -106.
 241690)\, Vail Pass\, CO\, United States
X-APPLE-STRUCTURED-LOCATION;VALUE=URI;X-ADDRESS=Shrine Ridge parking area (
 39.546176\, -106.241690)\, Vail Pass\, CO\, United States;X-APPLE-RADIUS=1
 00;X-TITLE=Vail Pass Rest Area:geo:0,0
END:VEVENT
BEGIN:VTIMEZONE
TZID:America/Denver
X-LIC-LOCATION:America/Denver
BEGIN:DAYLIGHT
DTSTART:20240310T030000
TZOFFSETFROM:-0700
TZOFFSETTO:-0600
TZNAME:MDT
END:DAYLIGHT
END:VTIMEZONE
END:VCALENDAR