BEGIN:VCALENDAR
VERSION:2.0
PRODID:-//wp-events-plugin.com//7.2.3.1//EN
TZID:America/Denver
X-WR-TIMEZONE:America/Denver
BEGIN:VEVENT
UID:1315@krystal93.com
DTSTART;TZID=America/Denver;VALUE=DATE:20250104
DTEND;TZID=America/Denver;VALUE=DATE:20250106
DTSTAMP:20250102T145933Z
URL:https://krystal93.com/events/win-sierra-hull-tickets/
SUMMARY:Win Sierra Hull Tickets
DESCRIPTION:Breck Create brings Sierra Hull to the Riverwalk Center on Thur
 sday January 10. Tickets are available at BreckCreate.org or... you can li
 sten to Krystal 93 this weekend for a chance to WIN tickets to the show! S
 ierra Hull is a grammy nominated artist and a world-renowned mandolin play
 er. Listen  Saturday and Sunday  to win tickets. 
END:VEVENT
BEGIN:VTIMEZONE
TZID:America/Denver
X-LIC-LOCATION:America/Denver
BEGIN:STANDARD
DTSTART:20241103T010000
TZOFFSETFROM:-0600
TZOFFSETTO:-0700
TZNAME:MST
END:STANDARD
END:VTIMEZONE
END:VCALENDAR