BEGIN:VCALENDAR
VERSION:2.0
PRODID:-//wp-events-plugin.com//7.2.3.1//EN
TZID:America/Denver
X-WR-TIMEZONE:America/Denver
BEGIN:VEVENT
UID:1683@krystal93.com
DTSTART;TZID=America/Denver;VALUE=DATE:20250810
DTEND;TZID=America/Denver;VALUE=DATE:20250811
DTSTAMP:20250804T203140Z
URL:https://krystal93.com/events/win-tickets-smalltown-for-the-cause-2-day
 -festival/
SUMMARY:WIN TICKETS - Smalltown for the Cause - 2-day festival
DESCRIPTION:Krystal 93 is giving away a pair of festival passes for Smallto
 wn for the Cause -- coming to Salida September 19th and 20th with great li
 ve music\, yoga and much more. Listen to Krystal 93 all day on August 10th
  to win. Elephant Revival headlines alongside performances by Moontricks\,
  Clay Street Unit\, Lindsey Lou and more. There’ll also be kids activiti
 es and mindfulness workshops. Listen this weekend on Krystal 93 for chance
 s to win two-day festival passes! Or go to bonfireentertainment-dot-com to
  buy tickets.  
END:VEVENT
BEGIN:VTIMEZONE
TZID:America/Denver
X-LIC-LOCATION:America/Denver
BEGIN:DAYLIGHT
DTSTART:20250309T030000
TZOFFSETFROM:-0700
TZOFFSETTO:-0600
TZNAME:MDT
END:DAYLIGHT
END:VTIMEZONE
END:VCALENDAR