BEGIN:VCALENDAR
VERSION:2.0
PRODID:-//wp-events-plugin.com//7.2.3.1//EN
TZID:America/Denver
X-WR-TIMEZONE:America/Denver
BEGIN:VEVENT
UID:719@krystal93.com
DTSTART;TZID=America/Denver:20230907T173000
DTEND;TZID=America/Denver:20230907T210000
DTSTAMP:20230831T042406Z
URL:https://krystal93.com/events/wine-in-the-mine/
SUMMARY:Wine in the Mine
DESCRIPTION:The Summit Foundation’s Wine in The Mine \n\nWhere: Country 
 Boy Mine in Breckenridge \n\nWhen: Thursday September 7th from 5:30 to 9:
 00pm \n\nDetails: Guests will enjoy live music\, mine tours\, Carboy Wine
  tastings\, and ax throwing for the truly adventurous. Your attendance sup
 ports our community through the Foundation's grants\, scholarships\, and s
 pecial initiatives. Go to wineinthemine.org to buy tickets. 
END:VEVENT
BEGIN:VTIMEZONE
TZID:America/Denver
X-LIC-LOCATION:America/Denver
BEGIN:DAYLIGHT
DTSTART:20230312T030000
TZOFFSETFROM:-0700
TZOFFSETTO:-0600
TZNAME:MDT
END:DAYLIGHT
END:VTIMEZONE
END:VCALENDAR