BEGIN:VCALENDAR
VERSION:2.0
PRODID:-//wp-events-plugin.com//7.2.3.1//EN
TZID:America/Denver
X-WR-TIMEZONE:America/Denver
BEGIN:VEVENT
UID:1279@krystal93.com
DTSTART;TZID=America/Denver:20241203T070000
DTEND;TZID=America/Denver:20241203T170000
DTSTAMP:20241201T202931Z
URL:https://krystal93.com/events/winter-program-registration-begins/
SUMMARY:Winter Program Registration Begins
DESCRIPTION:Winter Program Registration at the Silverthorne Rec Center begi
 ns today  at 7am. Join the Silverthorne Rec Center for fun winter program
 ming for adults and kids. They have dance\, volleyball\, swimming lessons\
 , you name it. Go to silverthorne.org to learn more. Krystal Media Support
 s the Summit. 
CATEGORIES:Town of Silverthorne
END:VEVENT
BEGIN:VTIMEZONE
TZID:America/Denver
X-LIC-LOCATION:America/Denver
BEGIN:STANDARD
DTSTART:20241103T010000
TZOFFSETFROM:-0600
TZOFFSETTO:-0700
TZNAME:MST
END:STANDARD
END:VTIMEZONE
END:VCALENDAR