BEGIN:VCALENDAR
VERSION:2.0
PRODID:-//wp-events-plugin.com//7.2.3.1//EN
TZID:America/Denver
X-WR-TIMEZONE:America/Denver
BEGIN:VEVENT
UID:1746@krystal93.com
DTSTART;TZID=America/Denver:20251118T100000
DTEND;TZID=America/Denver:20251118T113000
DTSTAMP:20251103T091620Z
URL:https://krystal93.com/events/yoga-mindfulness/
SUMMARY:Yoga & Mindfulness
DESCRIPTION:TUESDAY\, NOVEMBER 18\, 2025\n\nYoga + Mindfulness Gratitude Pr
 actice\n\n10:00 am - 11:30 am / Frisco\n\nJoin Leslie Glenn for a special 
 yoga and meditation experience designed to strengthen awareness\, presence
 \, and connection both on and off the yoga mat. This event is intended for
  Summit County residents only. Event Facilitated in English.
CATEGORIES:Building Hope Summit County
END:VEVENT
BEGIN:VTIMEZONE
TZID:America/Denver
X-LIC-LOCATION:America/Denver
BEGIN:STANDARD
DTSTART:20251102T010000
TZOFFSETFROM:-0600
TZOFFSETTO:-0700
TZNAME:MST
END:STANDARD
END:VTIMEZONE
END:VCALENDAR