BEGIN:VCALENDAR
VERSION:2.0
PRODID:-//wp-events-plugin.com//7.2.3.1//EN
TZID:America/Denver
X-WR-TIMEZONE:America/Denver
BEGIN:VEVENT
UID:1814@krystal93.com
DTSTART;TZID=America/Denver:20260215T114500
DTEND;TZID=America/Denver:20260215T130000
DTSTAMP:20260203T031014Z
URL:https://krystal93.com/events/youth-skates-12-18/
SUMMARY:Youth Skates (12-18)
DESCRIPTION:SUNDAY\, FEBRUARY 15\, 2026\nYouth Skates | Ages 12-18\n11:45am
 - 1:00 pm / Breckenridge\nJoin Building Hope and the HYPE for ice skating!
  Whether you’re a beginner or looking to sharpen your skills\, instructo
 rs will offer short lessons throughout the event. Come enjoy a chilly\, ch
 eerful afternoon of gliding\, learning\, and laughter with friends.\nThis 
 event is intended for Summit County\nEvent Facilitated in English and Span
 ish.\nGo to buildinghopesummit.org to sign up and for more details.
CATEGORIES:Building Hope Summit County
END:VEVENT
BEGIN:VTIMEZONE
TZID:America/Denver
X-LIC-LOCATION:America/Denver
BEGIN:STANDARD
DTSTART:20251102T010000
TZOFFSETFROM:-0600
TZOFFSETTO:-0700
TZNAME:MST
END:STANDARD
END:VTIMEZONE
END:VCALENDAR