BEGIN:VCALENDAR
VERSION:2.0
PRODID:-//wp-events-plugin.com//7.2.3.1//EN
TZID:America/Denver
X-WR-TIMEZONE:America/Denver
BEGIN:VEVENT
UID:957@krystal93.com
DTSTART;TZID=America/Denver:20240416T170000
DTEND;TZID=America/Denver:20240416T181500
DTSTAMP:20240408T190931Z
URL:https://krystal93.com/events/youth-yoga/
SUMMARY:Youth Yoga
DESCRIPTION:In partnership with the Dillon Mountain Wellness collective\, e
 njoy a relaxing session of yoga! Participation limited to ages 12-18.\n\nT
 ime: 5-6:15pm\n\nLocation: Dillon\n\nGo to Building Hope Summit County to 
 register.
CATEGORIES:Building Hope Summit County
END:VEVENT
BEGIN:VTIMEZONE
TZID:America/Denver
X-LIC-LOCATION:America/Denver
BEGIN:DAYLIGHT
DTSTART:20240310T030000
TZOFFSETFROM:-0700
TZOFFSETTO:-0600
TZNAME:MDT
END:DAYLIGHT
END:VTIMEZONE
END:VCALENDAR